Workbook

Sheet instructions
D1: IMPORTANT INSTRUCTIONS
A3: 1 | B3: This template is to be used for preparing the returns for the months of January 2017 onwards.
A4: 2 | B4: The return file should be named as XXMMYY, where XX is bank code and MM is month and YY is year.
A5: 3 | B5: The excel file submitted to CBO should preferably be in .xlsx extension.
A6: 4 | B6: No changes should be made in file formats..i.e. worksheet names, rows etc. should NOT be changed.
A7: 5 | B7: Data in yellow colored tabs is to be provided as at the end of every quarter.
A8: 6 | B8: NSFR disclosures (blue colored tab) are required to be given every quarter, BEGINNING FROM March 2018.
A9: 7 | B9: Bank Codes and Illustration of file names are given below:-
C10: Bank | E10: Code | F10: File name (FOR Aug. 2016)
B11: 1 | C11: Bank Muscat | E11: BM | F11: BM0816
B12: 2 | C12: National Bank of Oman | E12: NBO | F12: NBO0816
B13: 3 | C13: HSBC bank Oman | E13: HSBC | F13: HSBC0816
B14: 4 | C14: Bank Dhofar | E14: BD | F14: BD0816
B15: 5 | C15: Oman Arab Bank | E15: OAB | F15: OAB0816
B16: 6 | C16: Bank Sohar | E16: BS | F16: BS0816
B17: 7 | C17: Ahli Bank | E17: AB | F17: AB0816
B18: 8 | C18: Bank Nizwa | E18: BN | F18: BN0816
B19: 9 | C19: Al Izz bank | E19: AI | F19: AI0816
B20: 10 | C20: Standard Chartered Bank | E20: SCB | F20: SCB0816
B21: 11 | C21: Habib Bank | E21: HBL | F21: HBL0816
B22: 12 | C22: Bank Melli Iran | E22: BMI | F22: BMI0816
... B30: 20 | C30: Oman Housing Bank | E30: OHB | F30: OHB0816

Sheet LCR
B1: Statement on Liquiidity Coverage Ratio | D1: Report for the month of:-Dec, 2021
B2: Bank:State Bank of India, Muscat | D2: (RO '000)
B3: Stock of HQLA | C3: Factor | D3: Unweighted amount | E3: Weighted amount
B4: Level 1 assets
A5: 1 | B5: Coins and bank notes | C5: 1 | D5: 183.74 | E5: =D5*C5 -> 183.74
A6: 2 | B6: Qualifying central bank reserves | C6: 1 | D6: 1994 | E6: =D6*C6 -> 1994
A7: 3 | B7: Qualifying marketable securities from sovereigns,central banks, PSEs and multilateral development banks | C7: 1 | D7: 1000 | E7: =D7*C7 -> 1000
A8: 4 | B8: Domestic sovereign or Central Bank debt for non-0% risk weighted sovereigns | C8: 1 | D8: 0 | E8: =D8*C8 -> 0
A9: 5 | B9: Total Level 1 assets | D9: =SUM(D5:D8) -> 3177.74 | E9: =SUM(E5:E8) -> 3177.74
B10: Level 2A
A11: 6 | B11: Sovereign,CB,PSE, multilateral development banks assets (qualifying for 20% risk weighing) | C11: 0.85 | D11: 0 | E11: =D11*C11 -> 0
A12: 7 | B12: Qualifying Corporate debt securities AA- or higher | C12: 0.85 | D12: 0 | E12: =D12*C12 -> 0
A13: 8 | B13: Qualifying Covered bonds AA- or higher | C13: 0.85 | D13: 0 | E13: =D13*C13 -> 0
A14: 9 | B14: Total Level 2A | D14: =D11+D12+D13 -> 0 | E14: =SUM(E11:E13) -> 0
B15: Level 2B
A16: 10 | B16: Qualifying RMBS | C16: 0.75 | E16: =D16*C16 -> 0
A17: 11 | B17: Qualifying corporate debt securities, rated between A+ and BBB- | C17: 0.5 | E17: =D17*C17 -> 0
A18: 12 | B18: Qualifying common equity shares | C18: 0.5 | D18: 0 | E18: =D18*C18 -> 0
A19: 13 | B19: Total Level 2B (maximum 15% of HQLA) | D19: =D16+D17+D18 -> 0 | E19: =SUM(E16:E18) -> 0
A20: 14 | B20: Total level 2 assets (Maximum 40% of HQLA) | D20: =D14+D19 -> 0 | E20: =E14+E19 -> 0
A21: 15 | B21: Total Stock of high quality liquid assets | D21: =SUM(D9+D20) -> 3177.74 | E21: =+SUM(E9+E20) -> 3177.74 | G21: =D21/E85 -> 1.090684
B22: Cash outflows
B23: A. Retail Deposits (Customer Deposits)
B24: Demand Deposits + Term Deposits with residual maturity upto 30 days
A25: 16 | B25: ...Stable deposits (deposit insurance scheme meets addl criteria) | C25: 0.03 | E25: =D25*C25 -> 0
A26: 17 | B26: - Stable Deposits | C26: 0.05 | D26: 910.25705 | E26: 45.512852
A27: 18 | B27: - Less Stable retail Deposits | C27: 0.1 | D27: 177.36905 | E27: 17.736905
A28: 19 | B28: Term Deposits with residual maturity of more than 30 days | C28: 0 | D28: 1404 | E28: 0
B29: B. Unsecured Wholesale Funding
A30: 20 | B30: Demand and term deposits (less than 30 days) -stable deposits | C30: 0.05 | D30: 2446.0768 | E30: 122.30384
A31: 21 | B31: Less Stable deposits | C31: 0.1 | D31: 1493.0831 | E31: 149.30831
A32: 22 | B32: Non financial corporates, sovereigns,central banks and PSE | C32: 0.4 | D32: 0 | E32: =D32*C32 -> 0
A33: 23 | B33: …If entire portion covered by deposit insurance | C33: 0.2 | D33: 0 | E33: =D33*C33 -> 0
A34: 24 | B34: Cooperative banks in an institutional network (qualifying deposits with with the centralised institution) | C34: 0.25 | E34: =D34*C34 -> 0
A35: 25 | B35: Other legal entity customers | C35: 1 | D35: 0 | E35: =D35*C35 -> 0
A36: 26 | B36: Operational deposits generated by clearing, custody and cash management activities | C36: 0.25 | D36: 0 | E36: =D36*C36 -> 0
A37: 27 | B37: …..Portion covered by deposit insurance | C37: 0.05 | D37: 0 | E37: =D37*C37 -> 0
B38: C. Secured Funding
A39: 28 | B39: Secured funding transactions with a central bank or backed by Level I assets with any counterparty | C39: 0 | D39: 0 | E39: =D39*C39 -> 0
A40: 29 | B40: Secured funding transactions backed by Level 2A assets with any counterparty | C40: 0.15 | D40: 0 | E40: =D40*C40 -> 0
...

Sheet NSFR
A1: Basel III-Net Stable Funding Ratio | B1: =+LCR!D1 -> Report for the month of:-Dec, 2021
A2: =+LCR!B2 -> Bank:State Bank of India, Muscat | C2: (RO '000)
A3: Available stable funding | B3: Associated factor | C3: Unweighted amount | D3: Weighted amount
A4: Tier 1 capital | B4: 1 | C4: 23118 | D4: =B4*C4 -> 23118
A5: Tier 2 capital ( excluding Tier 2 instruments with residual maturity of less than one year) | B5: 1 | C5: 316 | D5: =B5*C5 -> 316
A6: Other capital instruments with effective residual maturity of one year or more | B6: 1 | C6: 0 | D6: =B6*C6 -> 0
A7: Other liabilities with effective residual maturities of one year or more | B7: 1 | C7: 0 | D7: =B7*C7 -> 0
A8: Stable non-maturity (demand) deposits and term deposits with residual maturity of less than one year provided by retail and small business customers | B8: 0.95 | C8: 910.25705 | D8: =B8*C8 -> 864.7442
A9: Less stable non-maturity deposits and term deposits with residual maturity of less than one year provided by retail and small business customers | B9: 0.9 | C9: 177.36905 | D9: =B9*C9 -> 159.63215
A10: Funding with residual maturity of less than one year provided by non-financial corporate customers, Funding with residual maturity of less than one year from sovereigns, PSEs, and multilateral and national development banks | B10: 0.5 | C10: 1235 | D10: =B10*C10 -> 617.5
A11: Operational deposits | B11: 0.5 | C11: 0 | D11: =B11*C11 -> 0
A12: Other funding with residual maturity between six months and less than one year not included in the above categories, including funding provided by central banks and financial institutions | B12: 0.5 | C12: 0 | D12: =B12*C12 -> 0
A13: All other liabilities and equity not included in the above categories, including liabilities without a stated maturity (with a specific treatment for deferred tax liabilities and minority interests) | B13: 0 | C13: 0 | D13: =B13*C13 -> 0
A14: NSFR derivative liabilities net of NSFR derivative assets if NSFR derivative liabilities are greater than NSFR derivative assets, | B14: 0 | C14: 0 | D14: =B14*C14 -> 0
A15: “Trade date” payables arising from purchases of financial instruments, foreign currencies & commodities | B15: 0 | C15: 0 | D15: =B15*C15 -> 0
A16: Total Available Stable Funding | C16: 26495.25 | D16: =SUM(D4:D15) -> 25075.876
A17: Required stable funding
A18: Coins,banknotes and reserves with CBO | B18: 0 | C18: 183 | D18: =B18*C18 -> 0
A19: All claims on central banks with residual maturities of less than six months | B19: 0 | C19: 0 | D19: =B19*C19 -> 0
A20: “Trade date” receivables arising from sales of financial instruments, foreign currencies and commodities | B20: 0 | C20: 0 | D20: =B20*C20 -> 0
A21: Unencumbered Level 1 assets, excluding coins, banknotes and reserves with CBO | B21: 0.05 | C21: 1000 | D21: 50
A22: Unencumbered loans to financial institutions with residual maturities of less than six months, where the loan is secured against Level 1 assets as defined in LCR framework, para 5.5 and where the bank has the ability to freely rehypothecate the received collateral for the life of the loan | B22: 0.1 | C22: 0 | D22: =B22*C22 -> 0
A23: All other unencumbered loans to financial institutions with residual maturities of less than six months not included in the above categories | B23: 0.15 | C23: 0 | D23: =B23*C23 -> 0
A24: Unencumbered Level 2A assets | B24: 0.15 | C24: 0 | D24: =B24*C24 -> 0
A25: Unencumbered Level 2B assets | B25: 0.5 | C25: 0 | D25: =B25*C25 -> 0
A26: HQLA encumbered for a period of six months or more and less than one year | B26: 0.5 | C26: 0 | D26: =B26*C26 -> 0
A27: Loans to financial institutions and central banks with residual maturities between six months and less than one year | B27: 0.5 | C27: 11697 | D27: =B27*C27 -> 5848.5
A28: Deposits held at other financial institutions for operational purposes | B28: 0.5 | C28: 0 | D28: =B28*C28 -> 0
A29: All other assets not included in the above categories with residual maturity of less than one year, including loans to non-financial corporate clients, loans to retail and small business customers, and loans to sovereigns and PSEs | B29: 0.5 | C29: 0 | D29: =B29*C29 -> 0
A30: Unencumbered residential mortgages with a residual maturity of one year or more and woth a risk weight of less than or equal to 35% under the Standardised Approach | B30: 0.65 | C30: 0 | D30: =B30*C30 -> 0
A31: Other unencumbered loans not included in the above categories, excluding loans to financial institutions, with a residual maturity of one year or more and with a risk weight of less than or equal to 35% under the Standardised Approach | B31: 0.65 | C31: 0 | D31: =B31*C31 -> 0
A32: Cash, securities or other assets posted as initial margin for derivative contracts and cash or other assets provided to contribute to the default fund of a CCP | B32: 0.85 | C32: 0 | D32: =B32*C32 -> 0
A33: Other unencumbered performing loans with risk weights greater than 35% under the Standardised Approach and residual maturities of one year or more, excluding loans to financial institutions. | B33: 0.85 | C33: 0 | D33: =B33*C33 -> 0
... A38: 20% of derivative liabilities (as per para 18 above) | B38: 1 | C38: 0 | D38: =B38*C38 -> 0
A39: All other assets not included in the above categories, including non-performing loans, loans to financial institutions with a residual maturity of one year or more, non-exchange-traded equities, fixed assets, items deducted from regulatory capital, retained interest, insurance assets, subsidiary interests and defaulted securities. | B39: 1 | C39: 1463.48 | D39: 1463
A40: Sub total (A) | C40: =+C39+C27+C21+C18 -> 14343.48 | D40: =+D39+D27+D21+D18 -> 7361.5
A41: Off balance sheet exposures
A42: Irrevocable and conditionally revocable credit and liquidity facilities to any client | B42: 0.05 | C42: 1924.9089 | D42: =B42*C42 -> 96.245445
A43: Other contingent funding obligations, including products and instruments such as guarantees, letters of credit, Unconditionally revocable credit and liquidity facilities | B43: 0.05 | C43: 1163.5361 | D43: =B43*C43 -> 58.176805
A44: Non contractual obligations such as potential requests for debt repurchases of the bank’s own debt or that of related conduits, securities investment vehicles and other such financing facilities, structured products where customers anticipate ready marketability, managed funds that are marketed with the objective of maintaining a stable value | B44: 0.05 | D44: =B44*C44 -> 0
...

Sheet LCR Disclosures
A1: =+LCR!D1 -> Report for the month of:-Dec, 2021
A2: =+LCR!B2 -> Bank:State Bank of India, Muscat
A3: LCR Common Disclosure Template for the period ending:
H4: (RO ‘000)
H5: Total Unweighted Value (average) | I5: Total Weighted Value (average)
A6: High Quality Liquid Assets
A7: 1 | B7: Total High Quality Liquid Assets (HQLA) | I7: =LCR!E21 -> 3177.74
A8: Cash Outflows
A9: 2 | B9: Retail deposits and deposits from small business | G9: customers, of which: | H9: =H10+H11 -> 1087.6261 | I9: =I10+I11 -> 63.249758
A10: 3 | B10: Stable deposits | H10: =LCR!D26 -> 910.25705 | I10: =LCR!E26 -> 45.512852
A11: 4 | B11: Less stable deposits | H11: =LCR!D27 -> 177.36905 | I11: =LCR!E27 -> 17.736905
A12: 5 | B12: Unsecured wholesale funding, of which: | H12: =H13+H14+H15 -> 3939.16 | I12: =I13+I14+I15 -> 271.61216
A13: 6 | B13: Operational deposits (all counterparties) and deposits in networks of cooperative banks
A14: 7 | B14: Non-operational deposits (all counterparties)
A15: 8 | B15: Unsecured debt | H15: =LCR!D30+LCR!D31 -> 3939.16 | I15: =LCR!E30+LCR!E31 -> 271.61216
A16: 9 | B16: Secured wholesale funding
A17: 10 | B17: Additional requirements, of which | H17: =H18+H19+H20 -> 0 | I17: =I18+I19+I20 -> 0
A18: 11 | B18: Outflows related to derivative exposures and other collateral requirements
A19: 12 | B19: Outflows related to loss of funding on debt products
A20: 13 | B20: Credit and liquidity facilities
A21: 14 | B21: Other contractual funding obligations | H21: =LCR!D55+LCR!D56 -> 1924.9089 | I21: =LCR!E55+LCR!E56 -> 192.49089
A22: 15 | B22: Other contingent funding obligations | H22: =LCR!D62 -> 1163.5361 | I22: =LCR!E62 -> 58.176805
A23: 16 | B23: TOTAL CASH OUTFLOWS | I23: =I9+I12+I16+I17+I21+I22 -> 585.52961
A24: Cash Inflows
A25: 17 | B25: Secured lending (e.g. reverse repos)
A26: 18 | B26: Inflows from fully performing exposures
A27: 19 | B27: Other cash inflows | H27: =LCR!D74+LCR!D75+LCR!D76+LCR!D77 -> 3436.838 | I27: =LCR!E74+LCR!E75+LCR!E76+LCR!E77 -> 3254.1453
A28: 20 | B28: TOTAL CASH INFLOWS | H28: =H25+H26+H27 -> 3436.838 | I28: =I25+I26+I27 -> 3254.1453
I29: Total Adjusted Value | L29: =I30/I31 -> 1.090684
A30: 21 | B30: TOTAL HQLA | I30: =I7 -> 3177.74
A31: 22 | B31: TOTAL NET CASH OUTFLOWS | I31: =+LCR!E85 -> 2913.5296
A32: 23 | B32: LIQUIDITY COVERAGE RATIO (%) | I32: =I30/I31% -> 109.0684

Sheet NSFR disclosures
A1: =+LCR!D1 -> Report for the month of:-Dec, 2021
A2: NSFR disclosures | C2: Quarter ended:
A3: =+LCR!B2 -> Bank:State Bank of India, Muscat
A4: Bank: | F4: (RO '000)
C5: Unweighted value by residual maturity
A6: ASF Item
C7: No | D7: < 6 | E7: 6 months | F7: ≥ 1yr | G7: Weighted
C8: maturity | D8: months | E8: to < 1yr | G8: value
A9: 1 | B9: Capital: | C9: =C10+C11 -> 0 | D9: =D10+D11 -> 0 | E9: =E10+E11 -> 0 | F9: =F10+F11 -> 0 | G9: =G10+G11 -> 0
A10: 2 | B10: Regulatory capital
A11: 3 | B11: Other capital instruments
A12: 4 | B12: Retail deposits and deposits from small business customers | C12: =C14+C15 -> 0 | D12: =D14+D15 -> 0 | E12: =E14+E15 -> 0 | F12: =F14+F15 -> 0 | G12: =G14+G15 -> 0
B13: business customers:
A14: 5 | B14: Stable deposits
A15: 6 | B15: Less stable deposits
A16: 7 | B16: Wholesale funding: | C16: =C17+C18 -> 0 | D16: =D17+D18 -> 0 | E16: =E17+E18 -> 0 | F16: =F17+F18 -> 0 | G16: =G17+G18 -> 0
A17: 8 | B17: Operational deposits
A18: 9 | B18: Other wholesale funding
A19: 10 | B19: Liabilities with matching interdependent assets
A20: 11 | B20: Other liabilities:
A21: 12 | B21: NSFR derivative liabilities
A22: 13 | B22: All other liabilities and equity not included in above categories
A23: 14 | B23: Total ASF | G23: =G9+G12+G16+G19+G20 -> 0
A24: RSF Item
A25: 15 | B25: Total NSFR high-quality liquid assets (HQLA)
A26: 16 | B26: Deposits held at other financial institutions for operational purposes
A27: 17 | B27: Performing loans and securities: | C27: =C28+C29+C30+C32+C34 -> 0 | D27: =D28+D29+D30+D32+D34 -> 0 | E27: =E28+E29+E30+E32+E34 -> 0 | F27: =F28+F29+F30+F32+F34 -> 0 | G27: =G28+G29+G30+G32+G34 -> 0
A28: 18 | B28: Performing loans to financial institutions secured by Level 1 HQLA
A29: 19 | B29: Performing loans to financial institutions secured by non- Level 1 HQLA and unsecured performing loans to financial institutions
A30: 20 | B30: Performing loans to non-financial corporate clients,loans to retail and small business customers, and loans to sovereigns, central banks and PSEs, of which
A31: 21 | B31: -With a risk weight of less than or equal to 35% under the Basel II Standardised approach for credit risk
A32: 22. | B32: Performing residential mortgages, of which:
A33: 23 | B33: With a risk weight of less than or equal to 35% under the Basel II Standardised Approach for credit risk
A34: 24 | B34: Securities that are not in default and do not qualify as HQLA, including exchange-traded equities
A35: 25 | B35: Assets with matching interdependent liabilities
A36: 26 | B36: Other Assets: | C36: =C37+C38+C39+C40+C41 -> 0 | D36: =D37+D38+D39+D40+D41 -> 0 | F36: =F37+F38+F39+F40+F41 -> 0 | G36: =G37+G38+G39+G40+G41 -> 0
A37: 27 | B37: Physical traded commodities, including gold
A38: 28 | B38: Assets posted as initial margin for derivative contracts and contributions to default funds of CCPs
A39: 29 | B39: NSFR derivative assets
A40: 30 | B40: NSFR derivative liabilities before deduction of variation margin posted
...

Sheet LCR Sig Currency
A1: Statement on Liquidity Coverage Ratio by Significant Currency
A3: Name of the Bank/Window | C3: =Funding!I1 -> Bank: State Bank of India, Muscat
A5: Position for the month of | C5: 31.12.2021
C7: (Amount in thousands in foreign currency-specify currency)USD
B9: HQLAs | D9: Unweighted amount | E9: Weighted
E10: amount
D11: a | E11: b
A12: 1 | B12: Total Level 1 assets | D12: 0.01 | E12: 0.01
A14: 2 | B14: Total Level 2A assets
A16: 3 | B16: Total adjusted Level 2 A assets | E16: 0
A18: 4 | B18: Total Level 2 B assets | D18: 0 | E18: 0
A20: 5 | B20: Total adjusted Level 2B assets | E20: 0
A22: 6 | B22: Total Stock of HQLAs (adjusted) [1b+3b+5b] | E22: 0.01
A24: A | B24: Total expected inflows | D24: 52.96
A25: B | B25: Total expected cash outflows | D25: 14.87
A28: C | B28: Inflows restricted to 25% of outflows | C28: 3.72
A29: D | B29: Net Cash outflows | C29: 3.72
A31: E | B31: Foreign Currency Liquidity Coverage Ratio (%) | E31: =E22/C29% -> 0.2688172

Sheet Funding
A1: Name of the Bank/Islamic Banking window: | I1: Bank: State Bank of India, Muscat
A3: Statement for the Quarter ending: | I3: 43922
A5: Part A | D5: Funding Concentration based on Counterparty
A7: A1 | D7: Significant Counterparty – Deposits and borrowings a
A9: A1.1 | D9: Significant Counterparty – Deposits
A11: Sr No. | D11: Name of the Counterparty | G11: Amount (RO'000) | K11: % of Total deposits | N11: % of Total balance sheet
A13: 1 | D13: MSA GLOBAL LLC | G13: 2666 | K13: =+(G13/V90) -> 0.27371663 | L13: 0.27802937 | M13: 0.27802937 | N13: =+(G13/V89) -> 0.067118149 | O13: 0.24382955 | P13: 0.24382955
K14: 0.27802937 | L14: 0.27802937 | M14: 0.27802937 | N14: 0.24382955 | O14: 0.24382955 | P14: 0.24382955
A15: 2 | D15: ENGINEERING PROJECTS (INDIA) | G15: 890 | K15: =+(G15/V90) -> 0.09137577 | L15: 0.27802937 | M15: 0.27802937 | N15: =+(G15/V89) -> 0.022406284 | O15: 0.092242305 | P15: 0.092242305
K16: 0.27802937 | L16: 0.27802937 | M16: 0.27802937 | N16: 0.092242305 | O16: 0.092242305 | P16: 0.092242305
A17: 3 | D17: Pradeep Kumar | G17: 322 | K17: =+(G17/V90) -> 0.033059548 | L17: 0.099904971 | M17: 0.099904971 | N17: =+(G17/V89) -> 0.0081065431 | O17: 0.092242305 | P17: 0.092242305
K18: 0.099904971 | L18: 0.099904971 | M18: 0.099904971 | N18: 0.092242305 | O18: 0.092242305 | P18: 0.092242305
A19: 4 | D19: INDIAN SCHOOL AL MAABELA | G19: 423 | K19: =+(G19/V90) -> 0.043429158 | L19: 0.099904971 | M19: 0.099904971 | N19: =+(G19/V89) -> 0.010649279 | O19: 0.092242305 | P19: 0.092242305
K20: 0.099904971 | L20: 0.099904971 | M20: 0.099904971 | N20: 0.092242305 | O20: 0.092242305 | P20: 0.092242305
A21: 5 | D21: V T Saileswaran | G21: 273 | K21: =+(G21/V90) -> 0.028028747 | L21: 0.065288461 | M21: 0.065288461 | N21: =+(G21/V89) -> 0.0068729387 | O21: 0.065288461 | P21: 0.065288461
D22: TOTAL | G22: =SUM(G13:J21) -> 4574
A24: A1.2 | D24: Significant Counterparty - Borrowings
A26: Sr No. | D26: Name of the Counterparty | G26: Amount (RO '000) | K26: % of Total borrowings | N26: % of Total balance sheet
A28: 1 | D28: Borrowing from State Bank of India, Bahrain | G28: 0 | N28: 0
A30: 2 | D30: Borrowing from State Bank of India, New York | G30: 0 | N30: 0
D34: TOTAL | G34: =SUM(G28:J33) -> 0
A36: A2 | D36: Top Deposits
A38: Sr No. | D38: Particulars | G38: Break up of Deposits held | K38: Amount (RO' 000) | N38: % of Total Deposits
A40: 1 | D40: =+D13 -> MSA GLOBAL LLC | G40: Savings
G42: Current
G44: Term | K44: =+G13 -> 2666
G46: Total | K46: =K40+K42+K44 -> 2666 | N46: =+K13 -> 0.27371663 | O46: 0.27802937 | P46: 0.27802937
N47: 0.27802937 | O47: 0.27802937 | P47: 0.27802937
A48: 2 | D48: ENGINEERING PROJECTS (INDIA) | G48: Savings
G50: Current
G52: Term | K52: =+G15 -> 890
G54: Total | K54: =K48+K50+K52 -> 890 | N54: =+K15 -> 0.09137577 | O54: 0.159872 | P54: 0.159872
N55: 0.159872 | O55: 0.159872 | P55: 0.159872
A56: 3 | D56: =+D17 -> Pradeep Kumar | G56: Savings
G60: Current
G62: Term | K62: =+G17 -> 322
G64: Total | K64: =K56+K60+K62 -> 322 | N64: =+K17 -> 0.033059548 | O64: 0.099904971 | P64: 0.099904971
N65: 0.099904971 | O65: 0.099904971 | P65: 0.099904971
A66: 4 | D66: =+D19 -> INDIAN SCHOOL AL MAABELA | G66: Savings
G68: Current
...

Sheet Unencumbered assets
A1: Statement of Available Unencumbered Assets
E2: (Amounts in RO ‘000)
A3: Name of the Bank/Islamic Banking Window: | E3: =Funding!I1 -> Bank: State Bank of India, Muscat
A4: Statement for the Quarter | E4: =Funding!I3 -> 43922
A5: Available unencumbered assets that are marketable as collateral in secondary markets and/or eligible for central bank’s standing facilities
A7: Sr No | B7: Value | C7: Type of Asset | D7: Location | E7: Estimated haircut required by the secondary market | F7: Expected monetised value of the collateral
A20: TOTAL | B20: =SUM(B8:B19) -> 0 | F20: =SUM(F8:F19) -> 0
A22: Available unencumbered assets that are marketable as collateral in secondary markets and/or eligible for central bank's standing facilities by significant currency
A24: Sr No. | B24: Type of Asset | C24: Value | D24: Location | E24: Estimated haircut required by the secondary market | F24: Expected monetised value of the collateral
A38: TOTAL | C38: =SUM(C25:C37) -> 0 | F38: =SUM(F25:F37) -> 0

Sheet Other info
B1: Statement on ‘Other Information’ on Liquidity
B2: Name of the Bank/Window | F2: =Funding!I1 -> Bank: State Bank of India, Muscat
B3: Statement for the Quarter | F3: =Funding!I3 -> 43922
B4: A | C4: Movement in Equity Share Prices for listed entities of the Group
A5: Sr. No. | B5: Entity | C5: Face Value | D5: Opening Price on the First Trading day | E5: Highest Price of the quarter | G5: Lowest Price of the quarter | I5: Closing Price on the last trading day | J5: Volatility (Standard deviation) of the Price for the quarter (%)
E7: Date | F7: Price | G7: Date | H7: Price
E12: Not Applicable
B20: B | C20: Movement in prices of Non-equity, debt and money market instruments issued by the bank
A21: Sl. No. | B21: Type of Instrument | C21: Date of Issue | D21: Face Value & coupon (%) | E21: Issue Price | F21: Amount Outstanding | G21: Date of | H21: Price movement during the qurter
G22: Maturity | H22: Opening | I22: High | J22: Low | K22: Closing
E27: Not Applicable

Sheet Sheet1
